BEGIN:VCALENDAR
VERSION:2.0
PRODID:-//ASV Grassau - ECPv4.9.13//NONSGML v1.0//EN
CALSCALE:GREGORIAN
METHOD:PUBLISH
X-WR-CALNAME:ASV Grassau
X-ORIGINAL-URL:https://www.asv-grassau.de
X-WR-CALDESC:Veranstaltungen im ASV Grassau
BEGIN:VTIMEZONE
TZID:Europe/Berlin
BEGIN:DAYLIGHT
TZOFFSETFROM:+0100
TZOFFSETTO:+0200
TZNAME:CEST
DTSTART:20200329T010000
END:DAYLIGHT
BEGIN:STANDARD
TZOFFSETFROM:+0200
TZOFFSETTO:+0100
TZNAME:CET
DTSTART:20201025T010000
END:STANDARD
END:VTIMEZONE
BEGIN:VEVENT
DTSTART;TZID=Europe/Berlin:20200404T090000
DTEND;TZID=Europe/Berlin:20200404T170000
DTSTAMP:20260425T194032
CREATED:20191221T174503Z
LAST-MODIFIED:20200313T162848Z
UID:4384-1585990800-1586019600@www.asv-grassau.de
SUMMARY:ABGESAGT   -2. BRLT Jugend 15\, 11-
DESCRIPTION:
URL:https://www.asv-grassau.de/event/2-brlt-jugend-15-11/
LOCATION:BSC Surheim
CATEGORIES:Tischtennis,Turnier
END:VEVENT
END:VCALENDAR