BEGIN:VCALENDAR
VERSION:2.0
PRODID:-//ASV Grassau - ECPv4.9.13//NONSGML v1.0//EN
CALSCALE:GREGORIAN
METHOD:PUBLISH
X-WR-CALNAME:ASV Grassau
X-ORIGINAL-URL:https://www.asv-grassau.de
X-WR-CALDESC:Veranstaltungen im ASV Grassau
BEGIN:VTIMEZONE
TZID:Europe/Berlin
BEGIN:DAYLIGHT
TZOFFSETFROM:+0100
TZOFFSETTO:+0200
TZNAME:CEST
DTSTART:20230326T010000
END:DAYLIGHT
BEGIN:STANDARD
TZOFFSETFROM:+0200
TZOFFSETTO:+0100
TZNAME:CET
DTSTART:20231029T010000
END:STANDARD
END:VTIMEZONE
BEGIN:VEVENT
DTSTART;VALUE=DATE:20231014
DTEND;VALUE=DATE:20231016
DTSTAMP:20260420T201646
CREATED:20230904T094739Z
LAST-MODIFIED:20230904T094739Z
UID:8328-1697241600-1697414399@www.asv-grassau.de
SUMMARY:BEM Jugend -> 14./15.10.2023
DESCRIPTION:Sa\, 14.10.2023 . Spieltag Bez.-EM Jugend 19/15/13\nSo\, 15.10.2023 . Spieltag Bez.-EM Jugend 19/15/13 \n
URL:https://www.asv-grassau.de/event/bem-jugend-14-15-10-2023/
CATEGORIES:Jugend,Jungen 1,Jungen 2,Jungen 3,Tischtennis,Turnier
END:VEVENT
END:VCALENDAR