BEGIN:VCALENDAR
VERSION:2.0
PRODID:-//ASV Grassau - ECPv4.9.13//NONSGML v1.0//EN
CALSCALE:GREGORIAN
METHOD:PUBLISH
X-WR-CALNAME:ASV Grassau
X-ORIGINAL-URL:https://www.asv-grassau.de
X-WR-CALDESC:Veranstaltungen im ASV Grassau
BEGIN:VTIMEZONE
TZID:Europe/Berlin
BEGIN:DAYLIGHT
TZOFFSETFROM:+0100
TZOFFSETTO:+0200
TZNAME:CEST
DTSTART:20200329T010000
END:DAYLIGHT
BEGIN:STANDARD
TZOFFSETFROM:+0200
TZOFFSETTO:+0100
TZNAME:CET
DTSTART:20201025T010000
END:STANDARD
END:VTIMEZONE
BEGIN:VEVENT
DTSTART;VALUE=DATE:20200329
DTEND;VALUE=DATE:20200330
DTSTAMP:20260425T194058
CREATED:20191025T143837Z
LAST-MODIFIED:20211113T153151Z
UID:4075-1585440000-1585526399@www.asv-grassau.de
SUMMARY:Grassau - SF Bad Reichenhall
DESCRIPTION:
URL:https://www.asv-grassau.de/event/grassau-sf-bad-reichenhall/
CATEGORIES:201920,Herren 1,Schach,Spiele,Spiele
END:VEVENT
END:VCALENDAR