BEGIN:VCALENDAR
VERSION:2.0
PRODID:-//ASV Grassau - ECPv4.9.13//NONSGML v1.0//EN
CALSCALE:GREGORIAN
METHOD:PUBLISH
X-WR-CALNAME:ASV Grassau
X-ORIGINAL-URL:https://www.asv-grassau.de
X-WR-CALDESC:Veranstaltungen im ASV Grassau
BEGIN:VTIMEZONE
TZID:Europe/Berlin
BEGIN:DAYLIGHT
TZOFFSETFROM:+0100
TZOFFSETTO:+0200
TZNAME:CEST
DTSTART:20240331T010000
END:DAYLIGHT
BEGIN:STANDARD
TZOFFSETFROM:+0200
TZOFFSETTO:+0100
TZNAME:CET
DTSTART:20241027T010000
END:STANDARD
END:VTIMEZONE
BEGIN:VEVENT
DTSTART;TZID=Europe/Berlin:20241108T164500
DTEND;TZID=Europe/Berlin:20241108T193000
DTSTAMP:20260419T212830
CREATED:20241003T142205Z
LAST-MODIFIED:20241008T191114Z
UID:10021-1731084300-1731094200@www.asv-grassau.de
SUMMARY:Heimspiel Jugend 3
DESCRIPTION:
URL:https://www.asv-grassau.de/event/heimspiel-jugend-3/
CATEGORIES:Heimspielbetreuung,Jugendtraining,Tischtennis,Trainer Rainer,Training Freitag
END:VEVENT
END:VCALENDAR