BEGIN:VCALENDAR
VERSION:2.0
PRODID:-//ASV Grassau - ECPv4.9.13//NONSGML v1.0//EN
CALSCALE:GREGORIAN
METHOD:PUBLISH
X-WR-CALNAME:ASV Grassau
X-ORIGINAL-URL:https://www.asv-grassau.de
X-WR-CALDESC:Veranstaltungen im ASV Grassau
BEGIN:VTIMEZONE
TZID:Europe/Berlin
BEGIN:DAYLIGHT
TZOFFSETFROM:+0100
TZOFFSETTO:+0200
TZNAME:CEST
DTSTART:20240331T010000
END:DAYLIGHT
BEGIN:STANDARD
TZOFFSETFROM:+0200
TZOFFSETTO:+0100
TZNAME:CET
DTSTART:20241027T010000
END:STANDARD
END:VTIMEZONE
BEGIN:VEVENT
DTSTART;TZID=Europe/Berlin:20241009T164500
DTEND;TZID=Europe/Berlin:20241009T193000
DTSTAMP:20260420T004223
CREATED:20241003T140847Z
LAST-MODIFIED:20241008T090602Z
UID:9997-1728492300-1728502200@www.asv-grassau.de
SUMMARY:Heimspiel Jugend 4
DESCRIPTION:
URL:https://www.asv-grassau.de/event/heimspiel-jugend-4-2/
CATEGORIES:Heimspielbetreuung,Jugendtraining,Tischtennis,Trainer Gerlinde,Training Mittwoch
END:VEVENT
END:VCALENDAR