BEGIN:VCALENDAR
VERSION:2.0
PRODID:-//ASV Grassau - ECPv4.9.13//NONSGML v1.0//EN
CALSCALE:GREGORIAN
METHOD:PUBLISH
X-WR-CALNAME:ASV Grassau
X-ORIGINAL-URL:https://www.asv-grassau.de
X-WR-CALDESC:Veranstaltungen im ASV Grassau
BEGIN:VTIMEZONE
TZID:Europe/Berlin
BEGIN:DAYLIGHT
TZOFFSETFROM:+0100
TZOFFSETTO:+0200
TZNAME:CEST
DTSTART:20240331T010000
END:DAYLIGHT
BEGIN:STANDARD
TZOFFSETFROM:+0200
TZOFFSETTO:+0100
TZNAME:CET
DTSTART:20241027T010000
END:STANDARD
END:VTIMEZONE
BEGIN:VEVENT
DTSTART;TZID=Europe/Berlin:20240207T193000
DTEND;TZID=Europe/Berlin:20240207T213000
DTSTAMP:20260422T115623
CREATED:20231209T175235Z
LAST-MODIFIED:20240224T065130Z
UID:8706-1707334200-1707341400@www.asv-grassau.de
SUMMARY:Herren 1 - TSV Fridolfing
DESCRIPTION:
URL:https://www.asv-grassau.de/event/herren-1-tsv-fridolfing-3/
CATEGORIES:202324,Erwachsene,Heimspiel,Herren 1,Spiele,Spiele,Tischtennis
END:VEVENT
END:VCALENDAR