BEGIN:VCALENDAR
VERSION:2.0
PRODID:-//ASV Grassau - ECPv4.9.13//NONSGML v1.0//EN
CALSCALE:GREGORIAN
METHOD:PUBLISH
X-WR-CALNAME:ASV Grassau
X-ORIGINAL-URL:https://www.asv-grassau.de
X-WR-CALDESC:Veranstaltungen im ASV Grassau
BEGIN:VTIMEZONE
TZID:Europe/Berlin
BEGIN:DAYLIGHT
TZOFFSETFROM:+0100
TZOFFSETTO:+0200
TZNAME:CEST
DTSTART:20220327T010000
END:DAYLIGHT
BEGIN:STANDARD
TZOFFSETFROM:+0200
TZOFFSETTO:+0100
TZNAME:CET
DTSTART:20221030T010000
END:STANDARD
END:VTIMEZONE
BEGIN:VEVENT
DTSTART;TZID=Europe/Berlin:20220316T180000
DTEND;TZID=Europe/Berlin:20220316T210000
DTSTAMP:20260424T073831
CREATED:20210817T195326Z
LAST-MODIFIED:20230205T152651Z
UID:5379-1647453600-1647464400@www.asv-grassau.de
SUMMARY:Herren 1 - TSV Gars am Inn
DESCRIPTION:
URL:https://www.asv-grassau.de/event/herren-1-tsv-gars-am-inn/
CATEGORIES:202122,Erwachsene,Heimspiel,Herren 1,Spiele,Spiele,Tischtennis
END:VEVENT
END:VCALENDAR