BEGIN:VCALENDAR
VERSION:2.0
PRODID:-//ASV Grassau - ECPv4.9.13//NONSGML v1.0//EN
CALSCALE:GREGORIAN
METHOD:PUBLISH
X-WR-CALNAME:ASV Grassau
X-ORIGINAL-URL:https://www.asv-grassau.de
X-WR-CALDESC:Veranstaltungen im ASV Grassau
BEGIN:VTIMEZONE
TZID:Europe/Berlin
BEGIN:DAYLIGHT
TZOFFSETFROM:+0100
TZOFFSETTO:+0200
TZNAME:CEST
DTSTART:20200329T010000
END:DAYLIGHT
BEGIN:STANDARD
TZOFFSETFROM:+0200
TZOFFSETTO:+0100
TZNAME:CET
DTSTART:20201025T010000
END:STANDARD
END:VTIMEZONE
BEGIN:VEVENT
DTSTART;TZID=Europe/Berlin:20200325T193000
DTEND;TZID=Europe/Berlin:20200325T223000
DTSTAMP:20260425T194140
CREATED:20191229T113604Z
LAST-MODIFIED:20230205T152652Z
UID:4627-1585164600-1585175400@www.asv-grassau.de
SUMMARY:ABGESAGT     Herren 1 - TV Feldkirchen
DESCRIPTION:
URL:https://www.asv-grassau.de/event/herren-1-tv-feldkirchen/
CATEGORIES:201920,Erwachsene,Heimspiel,Herren 1,Spiele,Spiele,Tischtennis
END:VEVENT
END:VCALENDAR