BEGIN:VCALENDAR
VERSION:2.0
PRODID:-//ASV Grassau - ECPv4.9.13//NONSGML v1.0//EN
CALSCALE:GREGORIAN
METHOD:PUBLISH
X-WR-CALNAME:ASV Grassau
X-ORIGINAL-URL:https://www.asv-grassau.de
X-WR-CALDESC:Veranstaltungen im ASV Grassau
BEGIN:VTIMEZONE
TZID:Europe/Berlin
BEGIN:DAYLIGHT
TZOFFSETFROM:+0100
TZOFFSETTO:+0200
TZNAME:CEST
DTSTART:20190331T010000
END:DAYLIGHT
BEGIN:STANDARD
TZOFFSETFROM:+0200
TZOFFSETTO:+0100
TZNAME:CET
DTSTART:20191027T010000
END:STANDARD
END:VTIMEZONE
BEGIN:VEVENT
DTSTART;TZID=Europe/Berlin:20191206T193000
DTEND;TZID=Europe/Berlin:20191206T220000
DTSTAMP:20260426T002349
CREATED:20190803T152942Z
LAST-MODIFIED:20230205T152347Z
UID:3791-1575660600-1575669600@www.asv-grassau.de
SUMMARY:Herren 2 - SV Kay 2
DESCRIPTION:
URL:https://www.asv-grassau.de/event/herren-2-sv-kay-2/
CATEGORIES:201920,Erwachsene,Heimspiel,Herren 2,Spiele,Spiele,Tischtennis
END:VEVENT
END:VCALENDAR