BEGIN:VCALENDAR
VERSION:2.0
PRODID:-//ASV Grassau - ECPv4.9.13//NONSGML v1.0//EN
CALSCALE:GREGORIAN
METHOD:PUBLISH
X-WR-CALNAME:ASV Grassau
X-ORIGINAL-URL:https://www.asv-grassau.de
X-WR-CALDESC:Veranstaltungen im ASV Grassau
BEGIN:VTIMEZONE
TZID:Europe/Berlin
BEGIN:DAYLIGHT
TZOFFSETFROM:+0100
TZOFFSETTO:+0200
TZNAME:CEST
DTSTART:20200329T010000
END:DAYLIGHT
BEGIN:STANDARD
TZOFFSETFROM:+0200
TZOFFSETTO:+0100
TZNAME:CET
DTSTART:20201025T010000
END:STANDARD
END:VTIMEZONE
BEGIN:VEVENT
DTSTART;TZID=Europe/Berlin:20200122T193000
DTEND;TZID=Europe/Berlin:20200122T193000
DTSTAMP:20260425T225956
CREATED:20190907T154606Z
LAST-MODIFIED:20230205T152500Z
UID:3848-1579721400-1579721400@www.asv-grassau.de
SUMMARY:Herren 3 - SC Vachendorf 3
DESCRIPTION:
URL:https://www.asv-grassau.de/event/herren-3-sc-vachendorf-3/
CATEGORIES:201920,Erwachsene,Heimspiel,Herren 3,Spiele,Spiele,Tischtennis
END:VEVENT
END:VCALENDAR