BEGIN:VCALENDAR
VERSION:2.0
PRODID:-//ASV Grassau - ECPv4.9.13//NONSGML v1.0//EN
CALSCALE:GREGORIAN
METHOD:PUBLISH
X-WR-CALNAME:ASV Grassau
X-ORIGINAL-URL:https://www.asv-grassau.de
X-WR-CALDESC:Veranstaltungen im ASV Grassau
BEGIN:VTIMEZONE
TZID:Europe/Berlin
BEGIN:DAYLIGHT
TZOFFSETFROM:+0100
TZOFFSETTO:+0200
TZNAME:CEST
DTSTART:20230326T010000
END:DAYLIGHT
BEGIN:STANDARD
TZOFFSETFROM:+0200
TZOFFSETTO:+0100
TZNAME:CET
DTSTART:20231029T010000
END:STANDARD
END:VTIMEZONE
BEGIN:VEVENT
DTSTART;TZID=Europe/Berlin:20230125T193000
DTEND;TZID=Europe/Berlin:20230125T213000
DTSTAMP:20260423T134947
CREATED:20230109T215906Z
LAST-MODIFIED:20230205T152437Z
UID:7421-1674675000-1674682200@www.asv-grassau.de
SUMMARY:Herren 3 - SV DJK Nussdorf 2
DESCRIPTION:
URL:https://www.asv-grassau.de/event/herren-3-sv-djk-nussdorf-2/
CATEGORIES:202223,Erwachsene,Heimspiel,Herren 3,Spiele,Spiele,Tischtennis
END:VEVENT
END:VCALENDAR