BEGIN:VCALENDAR
VERSION:2.0
PRODID:-//ASV Grassau - ECPv4.9.13//NONSGML v1.0//EN
CALSCALE:GREGORIAN
METHOD:PUBLISH
X-WR-CALNAME:ASV Grassau
X-ORIGINAL-URL:https://www.asv-grassau.de
X-WR-CALDESC:Veranstaltungen im ASV Grassau
BEGIN:VTIMEZONE
TZID:Europe/Berlin
BEGIN:DAYLIGHT
TZOFFSETFROM:+0100
TZOFFSETTO:+0200
TZNAME:CEST
DTSTART:20240331T010000
END:DAYLIGHT
BEGIN:STANDARD
TZOFFSETFROM:+0200
TZOFFSETTO:+0100
TZNAME:CET
DTSTART:20241027T010000
END:STANDARD
END:VTIMEZONE
BEGIN:VEVENT
DTSTART;TZID=Europe/Berlin:20240210T180000
DTEND;TZID=Europe/Berlin:20240210T200000
DTSTAMP:20260422T183437
CREATED:20231209T184319Z
LAST-MODIFIED:20240224T070101Z
UID:8773-1707588000-1707595200@www.asv-grassau.de
SUMMARY:Herren 4 - SV DJK Kammer
DESCRIPTION:
URL:https://www.asv-grassau.de/event/herren-4-sv-djk-kammer-2/
CATEGORIES:202324,Erwachsene,Heimspiel,Herren 4,Spiele,Spiele,Tischtennis
END:VEVENT
END:VCALENDAR