BEGIN:VCALENDAR
VERSION:2.0
PRODID:-//ASV Grassau - ECPv4.9.13//NONSGML v1.0//EN
CALSCALE:GREGORIAN
METHOD:PUBLISH
X-WR-CALNAME:ASV Grassau
X-ORIGINAL-URL:https://www.asv-grassau.de
X-WR-CALDESC:Veranstaltungen im ASV Grassau
BEGIN:VTIMEZONE
TZID:Europe/Berlin
BEGIN:DAYLIGHT
TZOFFSETFROM:+0100
TZOFFSETTO:+0200
TZNAME:CEST
DTSTART:20240331T010000
END:DAYLIGHT
BEGIN:STANDARD
TZOFFSETFROM:+0200
TZOFFSETTO:+0100
TZNAME:CET
DTSTART:20241027T010000
END:STANDARD
END:VTIMEZONE
BEGIN:VEVENT
DTSTART;TZID=Europe/Berlin:20241113T173000
DTEND;TZID=Europe/Berlin:20241113T193000
DTSTAMP:20260419T195404
CREATED:20240915T124310Z
LAST-MODIFIED:20241123T184721Z
UID:9787-1731519000-1731526200@www.asv-grassau.de
SUMMARY:Jugend 1 - TSV Chieming
DESCRIPTION:
URL:https://www.asv-grassau.de/event/jugend-1-tsv-chieming/
CATEGORIES:202425,Heimspiel,Jugend,Jungen 1,Spiele,Spiele,Tischtennis
END:VEVENT
END:VCALENDAR