BEGIN:VCALENDAR
VERSION:2.0
PRODID:-//ASV Grassau - ECPv4.9.13//NONSGML v1.0//EN
CALSCALE:GREGORIAN
METHOD:PUBLISH
X-WR-CALNAME:ASV Grassau
X-ORIGINAL-URL:https://www.asv-grassau.de
X-WR-CALDESC:Veranstaltungen im ASV Grassau
BEGIN:VTIMEZONE
TZID:Europe/Berlin
BEGIN:DAYLIGHT
TZOFFSETFROM:+0100
TZOFFSETTO:+0200
TZNAME:CEST
DTSTART:20240331T010000
END:DAYLIGHT
BEGIN:STANDARD
TZOFFSETFROM:+0200
TZOFFSETTO:+0100
TZNAME:CET
DTSTART:20241027T010000
END:STANDARD
END:VTIMEZONE
BEGIN:VEVENT
DTSTART;TZID=Europe/Berlin:20241004T173000
DTEND;TZID=Europe/Berlin:20241004T193000
DTSTAMP:20260419T213545
CREATED:20240915T125432Z
LAST-MODIFIED:20241019T194506Z
UID:9825-1728063000-1728070200@www.asv-grassau.de
SUMMARY:Jugend 4 - TSV Berchtesgaden VI
DESCRIPTION:
URL:https://www.asv-grassau.de/event/jugend-4-tsv-berchtesgaden-vi/
CATEGORIES:202425,Heimspiel,Jugend,Jungen 4,Spiele,Spiele,Tischtennis
END:VEVENT
END:VCALENDAR