BEGIN:VCALENDAR
VERSION:2.0
PRODID:-//ASV Grassau - ECPv4.9.13//NONSGML v1.0//EN
CALSCALE:GREGORIAN
METHOD:PUBLISH
X-WR-CALNAME:ASV Grassau
X-ORIGINAL-URL:https://www.asv-grassau.de
X-WR-CALDESC:Veranstaltungen im ASV Grassau
BEGIN:VTIMEZONE
TZID:Europe/Berlin
BEGIN:DAYLIGHT
TZOFFSETFROM:+0100
TZOFFSETTO:+0200
TZNAME:CEST
DTSTART:20200329T010000
END:DAYLIGHT
BEGIN:STANDARD
TZOFFSETFROM:+0200
TZOFFSETTO:+0100
TZNAME:CET
DTSTART:20201025T010000
END:STANDARD
END:VTIMEZONE
BEGIN:VEVENT
DTSTART;TZID=Europe/Berlin:20200805T190000
DTEND;TZID=Europe/Berlin:20200805T210000
DTSTAMP:20260425T144241
CREATED:20200801T194301Z
LAST-MODIFIED:20200804T172431Z
UID:4927-1596654000-1596661200@www.asv-grassau.de
SUMMARY:Lehrgang Sylvia
DESCRIPTION:\n\n\nTeilnehmer\nSparing\n Gruppe\n zu bezahlen\n\n\n\n\n\n\n\n\nHammerschmid Leander\n\n17:00\n           5\,00 €\n\n\nFrühwirth Wasti\n\n17:00\n           5\,00 €\n\n\nBodenmeier Max\n\n17:00\n5\,00 €\n\n\nSchultheiss Erik\n17:00/17:30\n–\n                  –   €\n\n\n\n\n\n\n\n\nBitar Frederick\n\n17:30\n           5\,00 €\n\n\nSenke Christian\n\n17:30 ? 17:00\n           5\,00 €\n\n\nKroiss Kilian\n\n17:30 ? 17:00\n           5\,00 €\n\n\n\n\n\n\n\n\nDeka Felix\n\n18:00\n         10\,00 €\n\n\nBöhne Manfred\n\n18:00\n         10\,00 €\n\n\n\n\n\n\n\n\nBrindley Simon\n\n18:00\n         10\,00 €\n\n\nMünich Michael                                    ?\n\n18:00 ??\n         10\,00 €\n\n\n\n\n\n\n\n\nGasteiger Daniel\n\n18:30\n         10\,00 €\n\n\n\n\n\n\n\n\nGlöckner Christian\n18:00\n20:00\n         10\,00 €\n\n\nGerlinde Rohrer\n17:30\n20:00\n         10\,00 €\n\n\nHelmut Stirner\n18:00\n20:00\n         10\,00 €\n\n\nGlöckner Kevin\n\n20:00\n         10\,00 €\n\n\n\n\n\n\n\n\nWendlinger Miche\n\n20:00\n         10\,00 €\n\n\nJennes\n\n20:00\n         10\,00 €\n\n\nPawlow Alex\n19:00\n20:00\n         11\,00 €\n\n\nMayer Michael\n19:00\n20:00\n         11\,00 €\n\n\n\n  \n  \n
URL:https://www.asv-grassau.de/event/lehrgang-sylva-erwachsene/
CATEGORIES:Lehrgänge,Tischtennis
END:VEVENT
END:VCALENDAR