BEGIN:VCALENDAR
VERSION:2.0
PRODID:-//ASV Grassau - ECPv4.9.13//NONSGML v1.0//EN
CALSCALE:GREGORIAN
METHOD:PUBLISH
X-WR-CALNAME:ASV Grassau
X-ORIGINAL-URL:https://www.asv-grassau.de
X-WR-CALDESC:Veranstaltungen im ASV Grassau
BEGIN:VTIMEZONE
TZID:Europe/Berlin
BEGIN:DAYLIGHT
TZOFFSETFROM:+0100
TZOFFSETTO:+0200
TZNAME:CEST
DTSTART:20200329T010000
END:DAYLIGHT
BEGIN:STANDARD
TZOFFSETFROM:+0200
TZOFFSETTO:+0100
TZNAME:CET
DTSTART:20201025T010000
END:STANDARD
END:VTIMEZONE
BEGIN:VEVENT
DTSTART;TZID=Europe/Berlin:20200902T170000
DTEND;TZID=Europe/Berlin:20200902T220000
DTSTAMP:20260425T112335
CREATED:20200801T194833Z
LAST-MODIFIED:20200830T173541Z
UID:4938-1599066000-1599084000@www.asv-grassau.de
SUMMARY:Lehrgang Sylvia
DESCRIPTION:17:00 – 18:00 Uhr Balleimer   \nMarcel\nConstantin\nLeander \n18:00 – 19:00  Uhr Balleimer (2er)\nWasti\nChristian Senke \n19:00 – 21:00 Uhr Gruppe Erwachsene\nDani G\nAndi K\nFelix D\nHelmut St.\nMichael Münich\nJennes I\nUwe O\nChristian G\nGerlinde R \n  \n  \n??\nXaver\nFrederick \nNEIN\n– Luci\n– Kilian\n– Ole\n– Georg\n– Miche\n– Kevin \n
URL:https://www.asv-grassau.de/event/lehrgang-sylvia-erwachsene-2/
CATEGORIES:Lehrgänge,Tischtennis
END:VEVENT
END:VCALENDAR