BEGIN:VCALENDAR
VERSION:2.0
PRODID:-//ASV Grassau - ECPv4.9.13//NONSGML v1.0//EN
CALSCALE:GREGORIAN
METHOD:PUBLISH
X-WR-CALNAME:ASV Grassau
X-ORIGINAL-URL:https://www.asv-grassau.de
X-WR-CALDESC:Veranstaltungen im ASV Grassau
BEGIN:VTIMEZONE
TZID:Europe/Berlin
BEGIN:DAYLIGHT
TZOFFSETFROM:+0100
TZOFFSETTO:+0200
TZNAME:CEST
DTSTART:20200329T010000
END:DAYLIGHT
BEGIN:STANDARD
TZOFFSETFROM:+0200
TZOFFSETTO:+0100
TZNAME:CET
DTSTART:20201025T010000
END:STANDARD
END:VTIMEZONE
BEGIN:VEVENT
DTSTART;TZID=Europe/Berlin:20200112T172000
DTEND;TZID=Europe/Berlin:20200112T210000
DTSTAMP:20260426T003810
CREATED:20200111T133000Z
LAST-MODIFIED:20200111T135729Z
UID:4737-1578849600-1578862800@www.asv-grassau.de
SUMMARY:Mondwanderung der Abteilung TT
DESCRIPTION:Mondwanderung der Abteilung Tischtennis \n \n
URL:https://www.asv-grassau.de/event/mondwanderung-der-abteilung-tt/
CATEGORIES:Ausflug,Tischtennis
END:VEVENT
END:VCALENDAR