BEGIN:VCALENDAR
VERSION:2.0
PRODID:-//ASV Grassau - ECPv4.9.13//NONSGML v1.0//EN
CALSCALE:GREGORIAN
METHOD:PUBLISH
X-WR-CALNAME:ASV Grassau
X-ORIGINAL-URL:https://www.asv-grassau.de
X-WR-CALDESC:Veranstaltungen im ASV Grassau
BEGIN:VTIMEZONE
TZID:Europe/Berlin
BEGIN:DAYLIGHT
TZOFFSETFROM:+0100
TZOFFSETTO:+0200
TZNAME:CEST
DTSTART:20230326T010000
END:DAYLIGHT
BEGIN:STANDARD
TZOFFSETFROM:+0200
TZOFFSETTO:+0100
TZNAME:CET
DTSTART:20231029T010000
END:STANDARD
END:VTIMEZONE
BEGIN:VEVENT
DTSTART;TZID=Europe/Berlin:20231018T194500
DTEND;TZID=Europe/Berlin:20231018T214500
DTSTAMP:20260420T170044
CREATED:20230817T092454Z
LAST-MODIFIED:20231027T052712Z
UID:8228-1697658300-1697665500@www.asv-grassau.de
SUMMARY:Post SV Traunstein 3 - Herren 3
DESCRIPTION:
URL:https://www.asv-grassau.de/event/post-sv-traunstein-3-herren-3/
CATEGORIES:202324,Herren 3,Spiele,Spiele,Tischtennis
END:VEVENT
END:VCALENDAR