BEGIN:VCALENDAR
VERSION:2.0
PRODID:-//ASV Grassau - ECPv4.9.13//NONSGML v1.0//EN
CALSCALE:GREGORIAN
METHOD:PUBLISH
X-WR-CALNAME:ASV Grassau
X-ORIGINAL-URL:https://www.asv-grassau.de
X-WR-CALDESC:Veranstaltungen im ASV Grassau
BEGIN:VTIMEZONE
TZID:Europe/Berlin
BEGIN:DAYLIGHT
TZOFFSETFROM:+0100
TZOFFSETTO:+0200
TZNAME:CEST
DTSTART:20240331T010000
END:DAYLIGHT
BEGIN:STANDARD
TZOFFSETFROM:+0200
TZOFFSETTO:+0100
TZNAME:CET
DTSTART:20241027T010000
END:STANDARD
END:VTIMEZONE
BEGIN:VEVENT
DTSTART;TZID=Europe/Berlin:20241018T200000
DTEND;TZID=Europe/Berlin:20241018T220000
DTSTAMP:20260419T213628
CREATED:20240915T125908Z
LAST-MODIFIED:20241019T193617Z
UID:9845-1729281600-1729288800@www.asv-grassau.de
SUMMARY:SG Nußdorf-Raubling - Herren 2
DESCRIPTION:
URL:https://www.asv-grassau.de/event/sg-nussdorf-raubling-herren-2-3/
CATEGORIES:202425,Erwachsene,Herren 2,Spiele,Spiele,Tischtennis
END:VEVENT
END:VCALENDAR