BEGIN:VCALENDAR
VERSION:2.0
PRODID:-//ASV Grassau - ECPv4.9.13//NONSGML v1.0//EN
CALSCALE:GREGORIAN
METHOD:PUBLISH
X-WR-CALNAME:ASV Grassau
X-ORIGINAL-URL:https://www.asv-grassau.de
X-WR-CALDESC:Veranstaltungen im ASV Grassau
BEGIN:VTIMEZONE
TZID:Europe/Berlin
BEGIN:DAYLIGHT
TZOFFSETFROM:+0100
TZOFFSETTO:+0200
TZNAME:CEST
DTSTART:20200329T010000
END:DAYLIGHT
BEGIN:STANDARD
TZOFFSETFROM:+0200
TZOFFSETTO:+0100
TZNAME:CET
DTSTART:20201025T010000
END:STANDARD
END:VTIMEZONE
BEGIN:VEVENT
DTSTART;TZID=Europe/Berlin:20200119T080000
DTEND;TZID=Europe/Berlin:20200119T170000
DTSTAMP:20260426T003635
CREATED:20200119T133027Z
LAST-MODIFIED:20200119T133027Z
UID:4779-1579420800-1579453200@www.asv-grassau.de
SUMMARY:Sondertraining Balleimer individuell
DESCRIPTION:19:00 – 20:00 Uhr  Elke + Toni\n20:00 – 21:00 Uhr\n21:00 – 22:00 Uhr \n
URL:https://www.asv-grassau.de/event/sondertraining-balleimer-individuell/
END:VEVENT
END:VCALENDAR