BEGIN:VCALENDAR
VERSION:2.0
PRODID:-//ASV Grassau - ECPv4.9.13//NONSGML v1.0//EN
CALSCALE:GREGORIAN
METHOD:PUBLISH
X-WR-CALNAME:ASV Grassau
X-ORIGINAL-URL:https://www.asv-grassau.de
X-WR-CALDESC:Veranstaltungen im ASV Grassau
BEGIN:VTIMEZONE
TZID:Europe/Berlin
BEGIN:DAYLIGHT
TZOFFSETFROM:+0100
TZOFFSETTO:+0200
TZNAME:CEST
DTSTART:20190331T010000
END:DAYLIGHT
BEGIN:STANDARD
TZOFFSETFROM:+0200
TZOFFSETTO:+0100
TZNAME:CET
DTSTART:20191027T010000
END:STANDARD
END:VTIMEZONE
BEGIN:VEVENT
DTSTART;TZID=Europe/Berlin:20191220T200000
DTEND;TZID=Europe/Berlin:20191220T220000
DTSTAMP:20260426T003502
CREATED:20191218T125403Z
LAST-MODIFIED:20191220T111144Z
UID:4195-1576872000-1576879200@www.asv-grassau.de
SUMMARY:Training Erwachsene
DESCRIPTION:Michi M\, Helmut St\, Gerlinde R\, Ingo\, Christian Gl.\, Kevin Gl.\, Udo L.\, Helmut N.\, Daniel \n  \n? Manu \n
URL:https://www.asv-grassau.de/event/training-erwachsene/
CATEGORIES:Lehrgänge,Tischtennis
END:VEVENT
END:VCALENDAR