BEGIN:VCALENDAR
VERSION:2.0
PRODID:-//ASV Grassau - ECPv4.9.13//NONSGML v1.0//EN
CALSCALE:GREGORIAN
METHOD:PUBLISH
X-WR-CALNAME:ASV Grassau
X-ORIGINAL-URL:https://www.asv-grassau.de
X-WR-CALDESC:Veranstaltungen im ASV Grassau
BEGIN:VTIMEZONE
TZID:Europe/Berlin
BEGIN:DAYLIGHT
TZOFFSETFROM:+0100
TZOFFSETTO:+0200
TZNAME:CEST
DTSTART:20240331T010000
END:DAYLIGHT
BEGIN:STANDARD
TZOFFSETFROM:+0200
TZOFFSETTO:+0100
TZNAME:CET
DTSTART:20241027T010000
END:STANDARD
END:VTIMEZONE
BEGIN:VEVENT
DTSTART;TZID=Europe/Berlin:20240929T100000
DTEND;TZID=Europe/Berlin:20240929T120000
DTSTAMP:20260425T113847
CREATED:20240915T124124Z
LAST-MODIFIED:20241003T121907Z
UID:9779-1727604000-1727611200@www.asv-grassau.de
SUMMARY:TSV 66 Polling - Jugend 1
DESCRIPTION:
URL:https://www.asv-grassau.de/event/tsv-66-polling-jugend-1/
CATEGORIES:202425,Jugend,Jungen 1,Spiele,Spiele,Tischtennis
END:VEVENT
END:VCALENDAR