BEGIN:VCALENDAR
VERSION:2.0
PRODID:-//ASV Grassau - ECPv4.9.13//NONSGML v1.0//EN
CALSCALE:GREGORIAN
METHOD:PUBLISH
X-WR-CALNAME:ASV Grassau
X-ORIGINAL-URL:https://www.asv-grassau.de
X-WR-CALDESC:Veranstaltungen im ASV Grassau
BEGIN:VTIMEZONE
TZID:Europe/Berlin
BEGIN:DAYLIGHT
TZOFFSETFROM:+0100
TZOFFSETTO:+0200
TZNAME:CEST
DTSTART:20230326T010000
END:DAYLIGHT
BEGIN:STANDARD
TZOFFSETFROM:+0200
TZOFFSETTO:+0100
TZNAME:CET
DTSTART:20231029T010000
END:STANDARD
END:VTIMEZONE
BEGIN:VEVENT
DTSTART;TZID=Europe/Berlin:20231110T193000
DTEND;TZID=Europe/Berlin:20231110T213000
DTSTAMP:20260420T164946
CREATED:20230817T091859Z
LAST-MODIFIED:20231112T191740Z
UID:8214-1699644600-1699651800@www.asv-grassau.de
SUMMARY:TSV Fridolfing - Herren 1
DESCRIPTION:
URL:https://www.asv-grassau.de/event/tsv-fridolfing-herren-1-2/
CATEGORIES:202324,Herren 1,Spiele,Spiele,Tischtennis
END:VEVENT
END:VCALENDAR