BEGIN:VCALENDAR
VERSION:2.0
PRODID:-//ASV Grassau - ECPv4.9.13//NONSGML v1.0//EN
CALSCALE:GREGORIAN
METHOD:PUBLISH
X-WR-CALNAME:ASV Grassau
X-ORIGINAL-URL:https://www.asv-grassau.de
X-WR-CALDESC:Veranstaltungen im ASV Grassau
BEGIN:VTIMEZONE
TZID:Europe/Berlin
BEGIN:DAYLIGHT
TZOFFSETFROM:+0100
TZOFFSETTO:+0200
TZNAME:CEST
DTSTART:20230326T010000
END:DAYLIGHT
BEGIN:STANDARD
TZOFFSETFROM:+0200
TZOFFSETTO:+0100
TZNAME:CET
DTSTART:20231029T010000
END:STANDARD
END:VTIMEZONE
BEGIN:VEVENT
DTSTART;TZID=Europe/Berlin:20230130T180000
DTEND;TZID=Europe/Berlin:20230130T193000
DTSTAMP:20260422T144605
CREATED:20230114T191444Z
LAST-MODIFIED:20230205T152100Z
UID:7459-1675101600-1675107000@www.asv-grassau.de
SUMMARY:TSV Irschenberg - Jungen 2
DESCRIPTION:Leopeold ist ausnahmsweise statt Stichter gefahren! \n
URL:https://www.asv-grassau.de/event/tsv-irschenberg-jungen-2/
CATEGORIES:202223,Jugend,Jungen 2,Spiele,Spiele,Tischtennis
END:VEVENT
END:VCALENDAR