BEGIN:VCALENDAR
VERSION:2.0
PRODID:-//ASV Grassau - ECPv4.9.13//NONSGML v1.0//EN
CALSCALE:GREGORIAN
METHOD:PUBLISH
X-WR-CALNAME:ASV Grassau
X-ORIGINAL-URL:https://www.asv-grassau.de
X-WR-CALDESC:Veranstaltungen im ASV Grassau
BEGIN:VTIMEZONE
TZID:Europe/Berlin
BEGIN:DAYLIGHT
TZOFFSETFROM:+0100
TZOFFSETTO:+0200
TZNAME:CEST
DTSTART:20220327T010000
END:DAYLIGHT
BEGIN:STANDARD
TZOFFSETFROM:+0200
TZOFFSETTO:+0100
TZNAME:CET
DTSTART:20221030T010000
END:STANDARD
END:VTIMEZONE
BEGIN:VEVENT
DTSTART;TZID=Europe/Berlin:20221013T180000
DTEND;TZID=Europe/Berlin:20221013T200000
DTSTAMP:20260423T183517
CREATED:20220827T133818Z
LAST-MODIFIED:20230205T152100Z
UID:6496-1665684000-1665691200@www.asv-grassau.de
SUMMARY:TSV Stein-St. Georgen 3 - Jungen 2
DESCRIPTION:
URL:https://www.asv-grassau.de/event/tsv-stein-st-georgen-3-jungen-2/
CATEGORIES:202223,Jugend,Jungen 2,Spiele,Spiele,Tischtennis
END:VEVENT
END:VCALENDAR