BEGIN:VCALENDAR
VERSION:2.0
PRODID:-//ASV Grassau - ECPv4.9.13//NONSGML v1.0//EN
CALSCALE:GREGORIAN
METHOD:PUBLISH
X-WR-CALNAME:ASV Grassau
X-ORIGINAL-URL:https://www.asv-grassau.de
X-WR-CALDESC:Veranstaltungen im ASV Grassau
BEGIN:VTIMEZONE
TZID:Europe/Berlin
BEGIN:DAYLIGHT
TZOFFSETFROM:+0100
TZOFFSETTO:+0200
TZNAME:CEST
DTSTART:20200329T010000
END:DAYLIGHT
BEGIN:STANDARD
TZOFFSETFROM:+0200
TZOFFSETTO:+0100
TZNAME:CET
DTSTART:20201025T010000
END:STANDARD
END:VTIMEZONE
BEGIN:VEVENT
DTSTART;TZID=Europe/Berlin:20200117T174500
DTEND;TZID=Europe/Berlin:20200117T194500
DTSTAMP:20260426T002349
CREATED:20191229T113957Z
LAST-MODIFIED:20211113T153405Z
UID:4631-1579283100-1579290300@www.asv-grassau.de
SUMMARY:TSV Stein-StG. 2 - Jungen 1
DESCRIPTION:
URL:https://www.asv-grassau.de/event/tsv-stein-stg-2-jungen-1/
CATEGORIES:201920,Jugend,Jungen 1,Spiele,Spiele,Tischtennis
END:VEVENT
END:VCALENDAR