BEGIN:VCALENDAR
VERSION:2.0
PRODID:-//ASV Grassau - ECPv4.9.13//NONSGML v1.0//EN
CALSCALE:GREGORIAN
METHOD:PUBLISH
X-WR-CALNAME:ASV Grassau
X-ORIGINAL-URL:https://www.asv-grassau.de
X-WR-CALDESC:Veranstaltungen im ASV Grassau
BEGIN:VTIMEZONE
TZID:Europe/Berlin
BEGIN:DAYLIGHT
TZOFFSETFROM:+0100
TZOFFSETTO:+0200
TZNAME:CEST
DTSTART:20200329T010000
END:DAYLIGHT
BEGIN:STANDARD
TZOFFSETFROM:+0200
TZOFFSETTO:+0100
TZNAME:CET
DTSTART:20201025T010000
END:STANDARD
END:VTIMEZONE
BEGIN:VEVENT
DTSTART;TZID=Europe/Berlin:20200110T180000
DTEND;TZID=Europe/Berlin:20200110T200000
DTSTAMP:20260426T002343
CREATED:20191229T113831Z
LAST-MODIFIED:20211113T153405Z
UID:4629-1578679200-1578686400@www.asv-grassau.de
SUMMARY:Jungen 1 - TSV Waging 2
DESCRIPTION:
URL:https://www.asv-grassau.de/event/tsv-waging-2-jungen-1-2/
CATEGORIES:201920,Heimspiel,Jugend,Jungen 1,Spiele,Spiele,Tischtennis
END:VEVENT
END:VCALENDAR