BEGIN:VCALENDAR
VERSION:2.0
PRODID:-//ASV Grassau - ECPv4.9.13//NONSGML v1.0//EN
CALSCALE:GREGORIAN
METHOD:PUBLISH
X-WR-CALNAME:ASV Grassau
X-ORIGINAL-URL:https://www.asv-grassau.de
X-WR-CALDESC:Veranstaltungen im ASV Grassau
BEGIN:VTIMEZONE
TZID:Europe/Berlin
BEGIN:DAYLIGHT
TZOFFSETFROM:+0100
TZOFFSETTO:+0200
TZNAME:CEST
DTSTART:20200329T010000
END:DAYLIGHT
BEGIN:STANDARD
TZOFFSETFROM:+0200
TZOFFSETTO:+0100
TZNAME:CET
DTSTART:20201025T010000
END:STANDARD
END:VTIMEZONE
BEGIN:VEVENT
DTSTART;TZID=Europe/Berlin:20200925T180000
DTEND;TZID=Europe/Berlin:20200925T200000
DTSTAMP:20260425T112223
CREATED:20200830T184744Z
LAST-MODIFIED:20211113T153442Z
UID:5033-1601056800-1601064000@www.asv-grassau.de
SUMMARY:TSV Waging - Jungen 1
DESCRIPTION:
URL:https://www.asv-grassau.de/event/tsv-waging-jungen-1/
CATEGORIES:202021,Jugend,Jungen 1,Spiele,Spiele,Tischtennis
END:VEVENT
END:VCALENDAR