BEGIN:VCALENDAR
VERSION:2.0
PRODID:-//ASV Grassau - ECPv4.9.13//NONSGML v1.0//EN
CALSCALE:GREGORIAN
METHOD:PUBLISH
X-WR-CALNAME:ASV Grassau
X-ORIGINAL-URL:https://www.asv-grassau.de
X-WR-CALDESC:Veranstaltungen im ASV Grassau
BEGIN:VTIMEZONE
TZID:Europe/Berlin
BEGIN:DAYLIGHT
TZOFFSETFROM:+0100
TZOFFSETTO:+0200
TZNAME:CEST
DTSTART:20240331T010000
END:DAYLIGHT
BEGIN:STANDARD
TZOFFSETFROM:+0200
TZOFFSETTO:+0100
TZNAME:CET
DTSTART:20241027T010000
END:STANDARD
END:VTIMEZONE
BEGIN:VEVENT
DTSTART;TZID=Europe/Berlin:20240309T100000
DTEND;TZID=Europe/Berlin:20240309T120000
DTSTAMP:20260420T083425
CREATED:20240114T134634Z
LAST-MODIFIED:20240114T135326Z
UID:8882-1709978400-1709985600@www.asv-grassau.de
SUMMARY:TSV Winhöring - Jugend 1
DESCRIPTION:
URL:https://www.asv-grassau.de/event/tsv-winhoering-jugend-1/
CATEGORIES:202324,Jugend,Jungen 1,Spiele,Spiele,Tischtennis
END:VEVENT
END:VCALENDAR