BEGIN:VCALENDAR
VERSION:2.0
PRODID:-//ASV Grassau - ECPv4.9.13//NONSGML v1.0//EN
CALSCALE:GREGORIAN
METHOD:PUBLISH
X-WR-CALNAME:ASV Grassau
X-ORIGINAL-URL:https://www.asv-grassau.de
X-WR-CALDESC:Veranstaltungen im ASV Grassau
BEGIN:VTIMEZONE
TZID:Europe/Berlin
BEGIN:DAYLIGHT
TZOFFSETFROM:+0100
TZOFFSETTO:+0200
TZNAME:CEST
DTSTART:20200329T010000
END:DAYLIGHT
BEGIN:STANDARD
TZOFFSETFROM:+0200
TZOFFSETTO:+0100
TZNAME:CET
DTSTART:20201025T010000
END:STANDARD
END:VTIMEZONE
BEGIN:VEVENT
DTSTART;TZID=Europe/Berlin:20201023T173000
DTEND;TZID=Europe/Berlin:20201023T183000
DTSTAMP:20260425T112056
CREATED:20201018T160948Z
LAST-MODIFIED:20201018T161421Z
UID:5181-1603474200-1603477800@www.asv-grassau.de
SUMMARY:TT Zwergerltraining
DESCRIPTION:Als Einstieg in den Tischtennissport bieten wir ab Freitag 23.10.2020 ein Zwergerltraining an. \n  \nFreitags   17:30 – 18:30 Uhr\nin den Neuen Turnhalle Grassau \n  \nKinder der Jahrgänge 2012 und 2013 sind dazu eingeladen. \n  \n  \n
URL:https://www.asv-grassau.de/event/tt-zwergerltraining/
CATEGORIES:Tischtennis
END:VEVENT
END:VCALENDAR