BEGIN:VCALENDAR
VERSION:2.0
PRODID:-//ASV Grassau - ECPv4.9.13//NONSGML v1.0//EN
CALSCALE:GREGORIAN
METHOD:PUBLISH
X-WR-CALNAME:ASV Grassau
X-ORIGINAL-URL:https://www.asv-grassau.de
X-WR-CALDESC:Veranstaltungen im ASV Grassau
BEGIN:VTIMEZONE
TZID:Europe/Berlin
BEGIN:DAYLIGHT
TZOFFSETFROM:+0100
TZOFFSETTO:+0200
TZNAME:CEST
DTSTART:20230326T010000
END:DAYLIGHT
BEGIN:STANDARD
TZOFFSETFROM:+0200
TZOFFSETTO:+0100
TZNAME:CET
DTSTART:20231029T010000
END:STANDARD
END:VTIMEZONE
BEGIN:VEVENT
DTSTART;TZID=Europe/Berlin:20230114T190000
DTEND;TZID=Europe/Berlin:20230114T210000
DTSTAMP:20260423T134849
CREATED:20230109T215807Z
LAST-MODIFIED:20230205T152437Z
UID:7419-1673722800-1673730000@www.asv-grassau.de
SUMMARY:TuS Prien 4 - Herren 3
DESCRIPTION:
URL:https://www.asv-grassau.de/event/tus-prien-4-herren-3/
CATEGORIES:202223,Erwachsene,Herren 3,Spiele,Spiele,Tischtennis
END:VEVENT
END:VCALENDAR