BEGIN:VCALENDAR
VERSION:2.0
PRODID:-//ASV Grassau - ECPv4.9.13//NONSGML v1.0//EN
CALSCALE:GREGORIAN
METHOD:PUBLISH
X-WR-CALNAME:ASV Grassau
X-ORIGINAL-URL:https://www.asv-grassau.de
X-WR-CALDESC:Veranstaltungen im ASV Grassau
BEGIN:VTIMEZONE
TZID:Europe/Berlin
BEGIN:DAYLIGHT
TZOFFSETFROM:+0100
TZOFFSETTO:+0200
TZNAME:CEST
DTSTART:20240331T010000
END:DAYLIGHT
BEGIN:STANDARD
TZOFFSETFROM:+0200
TZOFFSETTO:+0100
TZNAME:CET
DTSTART:20241027T010000
END:STANDARD
END:VTIMEZONE
BEGIN:VEVENT
DTSTART;TZID=Europe/Berlin:20240308T180000
DTEND;TZID=Europe/Berlin:20240308T200000
DTSTAMP:20260420T084130
CREATED:20240114T141225Z
LAST-MODIFIED:20240201T100349Z
UID:8894-1709920800-1709928000@www.asv-grassau.de
SUMMARY:TuS Raubling - Jugend 2
DESCRIPTION:Spiel wurde verschoben auf Wunsch von Raubling (alter Termin 9.2.) \n
URL:https://www.asv-grassau.de/event/tus-raubling-jugend-2/
CATEGORIES:202324,Jugend,Jungen 2,Spiele,Spiele,Tischtennis
END:VEVENT
END:VCALENDAR